BEGIN:VCALENDAR
PRODID://WordPress//Event-Post-V5.9.2//EN
VERSION:2.0
BEGIN:VTIMEZONE
TZID:Europe/Prague
BEGIN:DAYLIGHT
TZOFFSETFROM:+0100
TZOFFSETTO:+0200
DTSTART:19700329T020000
RRULE:FREQ=YEARLY;BYDAY=-1SU;BYMONTH=3
END:DAYLIGHT
BEGIN:STANDARD
TZOFFSETFROM:+0200
TZOFFSETTO:+0100
TZNAME:CET
DTSTART:19701025T030000
RRULE:FREQ=YEARLY;BYDAY=-1SU;BYMONTH=10
END:STANDARD
END:VTIMEZONE
BEGIN:VEVENT
SUMMARY:Pilsen Summer School of Single Cell from the lab to data analysis
UID:https://www.elixir-czech.cz/events/pilsen-summer-school-of-single-cell-from-the-lab-to-data-analysis-2026
LOCATION:
DTSTAMP:20260902
DTSTART;TZID=Europe/Prague:20260902
DTEND;TZID=Europe/Prague:20260910
DESCRIPTION:We would like to invite you to join our unique Summer School of Single
Cell, which covers all the key steps in immune cell processing, sample
preparation for single cell sequencing, and data analysis.This nine-day
intensive, hands-on course focuses on experimental design, sample selection
and preparation, quality control, sequencing, understanding NGS data
formats, sequence editing, read mapping, data interpretation and
troubleshooting.The Summer School was established through the long-term
collaboration between Charles University and the University of West
Bohemia, as well as with London South Bank University, the Medical
University of Vienna, the University of Warsaw, the University of
Pennsylvania, and CiRT consortium. VenueWet lab part will take place
at:The Biomedical Centre of the Faculty of Medicine in Pilsen, Charles
University. The in silico lab and data analysis part will take place
at:The New Technologies for the Information Society Research Centre (NTIS)
at the Faculty of Applied Sciences, University of West
Bohemia. Visit summer school of single cell web site for more
information and registration.
END:VEVENT
END:VCALENDAR